Workbook

Sheet Overview
B1: City of Detroit Housing & Revitalization Department
B2: Project Overview
B4: Instructions: This tab determines the PILOT program applicable to your project and provides a high-level summary of the development information, sources & uses, and unit mix. Answer all yellow highlighted fields in "project screening" and "development overview" sections, and continue to the next tabs.
B8: Color Index: | C8: Blue = Input | D8: Green = Lookup | E8: Black = Calculation
B11: Project Screening Questions | E11: City of Detroit HRD PILOT Rates
B12: What Is The Project Type? | E12: Average % AMI | F12: Standard Rate | G12: Long-Term Vacant Rate
B13: What Is The Average AMI?
B14: Is this a Government-Aided housing project?
B15: What Is The Type of Residential Project? | E15: 1.2 | F15: TBD | G15: 0.035
B16: PILOT Program Category | C16: =IF(OR(C12="",C13="",C14=""),"",IF(C14="Y","GAHP - Government-Aided Housing Project",IF(AND(C12="Long Term Vacant Rehab",C13="81% - 120% AMI"),"FTHP - Fast Track Housing Project",IF(OR(C13="Up to 60% AMI",C13="61% - 80% AMI"),"FTHP - Fast Track Housing Project","SWHP - Standard Workforce Housing Project")))) | E16: 0.8 | F16: 0.04 | G16: 0.02
B17: PILOT Rate | C17: =IF(OR(C12="",C13=""),"",IF(AND(C12="Long Term Vacant Rehab",C13="Up to 60% AMI"),G17,IF(AND(C12="Long Term Vacant Rehab",C13="61% - 80% AMI"),G16,IF(AND(C12="Long Term Vacant Rehab",C13="81% - 120% AMI"),G15,IF(C13="Up to 60% AMI",F17,IF(C13="61% - 80% AMI",F16,F15)))))) | E17: Up to 60% AMI | F17: 0.01 | G17: 0.005
B18: Proposed PILOT Rate (SWHP Only)
B20: Development Overview | E20: Sources & Uses | J20: Unit Mix Summary
B21: Item | C21: Input | E21: Item | F21: $ Amount | G21: $ / Unit | H21: % of Total | J21: % AMI | K21: Studio | L21: 1 Bedroom | M21: 2 Bedroom | N21: 3 Bedroom | O21: 4+ Bedroom | P21: Total
B22: Property Address | E22: Construction Sources | J22: PSH | K22: =IF(SUMIFS('Unit Summary - Rent Roll'!$G$26:$G$325,'Unit Summary - Rent Roll'!$D$26:$D$325,Overview!K$21,'Unit Summary - Rent Roll'!$J$26:$J$325,Overview!$J22)=0,"",SUMIFS('Unit Summary - Rent Roll'!$G$26:$G$325,'Unit Summary - Rent Roll'!$D$26:$D$325,Overview!K$21,'Unit Summary - Rent Roll'!$J$26:$J$325,Overview!$J22)) | L22: =IF(SUMIFS('Unit Summary - Rent Roll'!$G$26:$G$325,'Unit Summary - Rent Roll'!$D$26:$D$325,Overview!L$21,'Unit Summary - Rent Roll'!$J$26:$J$325,Overview!$J22)=0,"",SUMIFS('Unit Summary - Rent Roll'!$G$26:$G$325,'Unit Summary - Rent Roll'!$D$26:$D$325,Overview!L$21,'Unit Summary - Rent Roll'!$J$26:$J$325,Overview!$J22)) | M22: =IF(SUMIFS('Unit Summary - Rent Roll'!$G$26:$G$325,'Unit Summary - Rent Roll'!$D$26:$D$325,Overview!M$21,'Unit Summary - Rent Roll'!$J$26:$J$325,Overview!$J22)=0,"",SUMIFS('Unit Summary - Rent Roll'!$G$26:$G$325,'Unit Summary - Rent Roll'!$D$26:$D$325,Overview!M$21,'Unit Summary - Rent Roll'!$J$26:$J$325,Overview!$J22)) | N22: =IF(SUMIFS('Unit Summary - Rent Roll'!$G$26:$G$325,'Unit Summary - Rent Roll'!$D$26:$D$325,Overview!N$21,'Unit Summary - Rent Roll'!$J$26:$J$325,Overview!$J22)=0,"",SUMIFS('Unit Summary - Rent Roll'!$G$26:$G$325,'Unit Summary - Rent Roll'!$D$26:$D$325,Overview!N$21,'Unit Summary - Rent Roll'!$J$26:$J$325,Overview!$J22)) | O22: =IF(SUMIFS('Unit Summary - Rent Roll'!$G$26:$G$325,'Unit Summary - Rent Roll'!$D$26:$D$325,Overview!O$21,'Unit Summary - Rent Roll'!$J$26:$J$325,Overview!$J22)=0,"",SUMIFS('Unit Summary - Rent Roll'!$G$26:$G$325,'Unit Summary - Rent Roll'!$D$26:$D$325,Overview!O$21,'Unit Summary - Rent Roll'!$J$26:$J$325,Overview!$J22)) | P22: =SUM(K22:O22) -> 0
B23: Project Name | E23: New Equity | F23: =IF($C$16="SWHP - Standard Workforce Housing Project",'Financials- SWHP'!P30,'Financials-FTHP & GAHP'!M31) -> 0 | G23: =IFERROR(F23/$C$34,0) -> 0 | H23: =IFERROR(F23/$F$31,0) -> 0 | J23: 0.2 | K23: =IF(SUMIFS('Unit Summary - Rent Roll'!$G$26:$G$325,'Unit Summary - Rent Roll'!$D$26:$D$325,Overview!K$21,'Unit Summary - Rent Roll'!$J$26:$J$325,Overview!$J23)=0,"",SUMIFS('Unit Summary - Rent Roll'!$G$26:$G$325,'Unit Summary - Rent Roll'!$D$26:$D$325,Overview!K$21,'Unit Summary - Rent Roll'!$J$26:$J$325,Overview!$J23)) | L23: =IF(SUMIFS('Unit Summary - Rent Roll'!$G$26:$G$325,'Unit Summary - Rent Roll'!$D$26:$D$325,Overview!L$21,'Unit Summary - Rent Roll'!$J$26:$J$325,Overview!$J23)=0,"",SUMIFS('Unit Summary - Rent Roll'!$G$26:$G$325,'Unit Summary - Rent Roll'!$D$26:$D$325,Overview!L$21,'Unit Summary - Rent Roll'!$J$26:$J$325,Overview!$J23)) | M23: =IF(SUMIFS('Unit Summary - Rent Roll'!$G$26:$G$325,'Unit Summary - Rent Roll'!$D$26:$D$325,Overview!M$21,'Unit Summary - Rent Roll'!$J$26:$J$325,Overview!$J23)=0,"",SUMIFS('Unit Summary - Rent Roll'!$G$26:$G$325,'Unit Summary - Rent Roll'!$D$26:$D$325,Overview!M$21,'Unit Summary - Rent Roll'!$J$26:$J$325,Overview!$J23)) | N23: =IF(SUMIFS('Unit Summary - Rent Roll'!$G$26:$G$325,'Unit Summary - Rent Roll'!$D$26:$D$325,Overview!N$21,'Unit Summary - Rent Roll'!$J$26:$J$325,Overview!$J23)=0,"",SUMIFS('Unit Summary - Rent Roll'!$G$26:$G$325,'Unit Summary - Rent Roll'!$D$26:$D$325,Overview!N$21,'Unit Summary - Rent Roll'!$J$26:$J$325,Overview!$J23)) | O23: =IF(SUMIFS('Unit Summary - Rent Roll'!$G$26:$G$325,'Unit Summary - Rent Roll'!$D$26:$D$325,Overview!O$21,'Unit Summary - Rent Roll'!$J$26:$J$325,Overview!$J23)=0,"",SUMIFS('Unit Summary - Rent Roll'!$G$26:$G$325,'Unit Summary - Rent Roll'!$D$26:$D$325,Overview!O$21,'Unit Summary - Rent Roll'!$J$26:$J$325,Overview!$J23)) | P23: =SUM(K23:O23) -> 0
E24: Tax Credit Equity | F24: =IF($C$16="SWHP - Standard Workforce Housing Project",SUM('Financials- SWHP'!P26:P27),SUM('Financials-FTHP & GAHP'!M27:M28)) -> 0 | G24: =IFERROR(F24/$C$34,0) -> 0 | H24: =IFERROR(F24/$F$31,0) -> 0 | J24: 0.25 | K24: =IF(SUMIFS('Unit Summary - Rent Roll'!$G$26:$G$325,'Unit Summary - Rent Roll'!$D$26:$D$325,Overview!K$21,'Unit Summary - Rent Roll'!$J$26:$J$325,Overview!$J24)=0,"",SUMIFS('Unit Summary - Rent Roll'!$G$26:$G$325,'Unit Summary - Rent Roll'!$D$26:$D$325,Overview!K$21,'Unit Summary - Rent Roll'!$J$26:$J$325,Overview!$J24)) | L24: =IF(SUMIFS('Unit Summary - Rent Roll'!$G$26:$G$325,'Unit Summary - Rent Roll'!$D$26:$D$325,Overview!L$21,'Unit Summary - Rent Roll'!$J$26:$J$325,Overview!$J24)=0,"",SUMIFS('Unit Summary - Rent Roll'!$G$26:$G$325,'Unit Summary - Rent Roll'!$D$26:$D$325,Overview!L$21,'Unit Summary - Rent Roll'!$J$26:$J$325,Overview!$J24)) | M24: =IF(SUMIFS('Unit Summary - Rent Roll'!$G$26:$G$325,'Unit Summary - Rent Roll'!$D$26:$D$325,Overview!M$21,'Unit Summary - Rent Roll'!$J$26:$J$325,Overview!$J24)=0,"",SUMIFS('Unit Summary - Rent Roll'!$G$26:$G$325,'Unit Summary - Rent Roll'!$D$26:$D$325,Overview!M$21,'Unit Summary - Rent Roll'!$J$26:$J$325,Overview!$J24)) | N24: =IF(SUMIFS('Unit Summary - Rent Roll'!$G$26:$G$325,'Unit Summary - Rent Roll'!$D$26:$D$325,Overview!N$21,'Unit Summary - Rent Roll'!$J$26:$J$325,Overview!$J24)=0,"",SUMIFS('Unit Summary - Rent Roll'!$G$26:$G$325,'Unit Summary - Rent Roll'!$D$26:$D$325,Overview!N$21,'Unit Summary - Rent Roll'!$J$26:$J$325,Overview!$J24)) | O24: =IF(SUMIFS('Unit Summary - Rent Roll'!$G$26:$G$325,'Unit Summary - Rent Roll'!$D$26:$D$325,Overview!O$21,'Unit Summary - Rent Roll'!$J$26:$J$325,Overview!$J24)=0,"",SUMIFS('Unit Summary - Rent Roll'!$G$26:$G$325,'Unit Summary - Rent Roll'!$D$26:$D$325,Overview!O$21,'Unit Summary - Rent Roll'!$J$26:$J$325,Overview!$J24)) | P24: =SUM(K24:O24) -> 0
B25: Construction Status | E25: Tax Credit Bridge Loan | F25: =IF($C$16="SWHP - Standard Workforce Housing Project",SUM('Financials- SWHP'!P24:P25),SUM('Financials-FTHP & GAHP'!M25:M26)) -> 0 | G25: =IFERROR(F25/$C$34,0) -> 0 | H25: =IFERROR(F25/$F$31,0) -> 0 | J25: 0.3 | K25: =IF(SUMIFS('Unit Summary - Rent Roll'!$G$26:$G$325,'Unit Summary - Rent Roll'!$D$26:$D$325,Overview!K$21,'Unit Summary - Rent Roll'!$J$26:$J$325,Overview!$J25)=0,"",SUMIFS('Unit Summary - Rent Roll'!$G$26:$G$325,'Unit Summary - Rent Roll'!$D$26:$D$325,Overview!K$21,'Unit Summary - Rent Roll'!$J$26:$J$325,Overview!$J25)) | L25: =IF(SUMIFS('Unit Summary - Rent Roll'!$G$26:$G$325,'Unit Summary - Rent Roll'!$D$26:$D$325,Overview!L$21,'Unit Summary - Rent Roll'!$J$26:$J$325,Overview!$J25)=0,"",SUMIFS('Unit Summary - Rent Roll'!$G$26:$G$325,'Unit Summary - Rent Roll'!$D$26:$D$325,Overview!L$21,'Unit Summary - Rent Roll'!$J$26:$J$325,Overview!$J25)) | M25: =IF(SUMIFS('Unit Summary - Rent Roll'!$G$26:$G$325,'Unit Summary - Rent Roll'!$D$26:$D$325,Overview!M$21,'Unit Summary - Rent Roll'!$J$26:$J$325,Overview!$J25)=0,"",SUMIFS('Unit Summary - Rent Roll'!$G$26:$G$325,'Unit Summary - Rent Roll'!$D$26:$D$325,Overview!M$21,'Unit Summary - Rent Roll'!$J$26:$J$325,Overview!$J25)) | N25: =IF(SUMIFS('Unit Summary - Rent Roll'!$G$26:$G$325,'Unit Summary - Rent Roll'!$D$26:$D$325,Overview!N$21,'Unit Summary - Rent Roll'!$J$26:$J$325,Overview!$J25)=0,"",SUMIFS('Unit Summary - Rent Roll'!$G$26:$G$325,'Unit Summary - Rent Roll'!$D$26:$D$325,Overview!N$21,'Unit Summary - Rent Roll'!$J$26:$J$325,Overview!$J25)) | O25: =IF(SUMIFS('Unit Summary - Rent Roll'!$G$26:$G$325,'Unit Summary - Rent Roll'!$D$26:$D$325,Overview!O$21,'Unit Summary - Rent Roll'!$J$26:$J$325,Overview!$J25)=0,"",SUMIFS('Unit Summary - Rent Roll'!$G$26:$G$325,'Unit Summary - Rent Roll'!$D$26:$D$325,Overview!O$21,'Unit Summary - Rent Roll'!$J$26:$J$325,Overview!$J25)) | P25: =SUM(K25:O25) -> 0
B26: Construction Start Date | E26: Construction Loan | F26: =IF($C$16="SWHP - Standard Workforce Housing Project",SUM('Financials- SWHP'!P17:P20),SUM('Financials-FTHP & GAHP'!M18:M21)) -> 0 | G26: =IFERROR(F26/$C$34,0) -> 0 | H26: =IFERROR(F26/$F$31,0) -> 0 | J26: 0.35 | K26: =IF(SUMIFS('Unit Summary - Rent Roll'!$G$26:$G$325,'Unit Summary - Rent Roll'!$D$26:$D$325,Overview!K$21,'Unit Summary - Rent Roll'!$J$26:$J$325,Overview!$J26)=0,"",SUMIFS('Unit Summary - Rent Roll'!$G$26:$G$325,'Unit Summary - Rent Roll'!$D$26:$D$325,Overview!K$21,'Unit Summary - Rent Roll'!$J$26:$J$325,Overview!$J26)) | L26: =IF(SUMIFS('Unit Summary - Rent Roll'!$G$26:$G$325,'Unit Summary - Rent Roll'!$D$26:$D$325,Overview!L$21,'Unit Summary - Rent Roll'!$J$26:$J$325,Overview!$J26)=0,"",SUMIFS('Unit Summary - Rent Roll'!$G$26:$G$325,'Unit Summary - Rent Roll'!$D$26:$D$325,Overview!L$21,'Unit Summary - Rent Roll'!$J$26:$J$325,Overview!$J26)) | M26: =IF(SUMIFS('Unit Summary - Rent Roll'!$G$26:$G$325,'Unit Summary - Rent Roll'!$D$26:$D$325,Overview!M$21,'Unit Summary - Rent Roll'!$J$26:$J$325,Overview!$J26)=0,"",SUMIFS('Unit Summary - Rent Roll'!$G$26:$G$325,'Unit Summary - Rent Roll'!$D$26:$D$325,Overview!M$21,'Unit Summary - Rent Roll'!$J$26:$J$325,Overview!$J26)) | N26: =IF(SUMIFS('Unit Summary - Rent Roll'!$G$26:$G$325,'Unit Summary - Rent Roll'!$D$26:$D$325,Overview!N$21,'Unit Summary - Rent Roll'!$J$26:$J$325,Overview!$J26)=0,"",SUMIFS('Unit Summary - Rent Roll'!$G$26:$G$325,'Unit Summary - Rent Roll'!$D$26:$D$325,Overview!N$21,'Unit Summary - Rent Roll'!$J$26:$J$325,Overview!$J26)) | O26: =IF(SUMIFS('Unit Summary - Rent Roll'!$G$26:$G$325,'Unit Summary - Rent Roll'!$D$26:$D$325,Overview!O$21,'Unit Summary - Rent Roll'!$J$26:$J$325,Overview!$J26)=0,"",SUMIFS('Unit Summary - Rent Roll'!$G$26:$G$325,'Unit Summary - Rent Roll'!$D$26:$D$325,Overview!O$21,'Unit Summary - Rent Roll'!$J$26:$J$325,Overview!$J26)) | P26: =SUM(K26:O26) -> 0
B27: Construction Months | E27: Deferred Developer Fee | F27: =IF($C$16="SWHP - Standard Workforce Housing Project",'Financials- SWHP'!P28,'Financials-FTHP & GAHP'!M29) -> 0 | G27: =IFERROR(F27/$C$34,0) -> 0 | H27: =IFERROR(F27/$F$31,0) -> 0 | J27: 0.4 | K27: =IF(SUMIFS('Unit Summary - Rent Roll'!$G$26:$G$325,'Unit Summary - Rent Roll'!$D$26:$D$325,Overview!K$21,'Unit Summary - Rent Roll'!$J$26:$J$325,Overview!$J27)=0,"",SUMIFS('Unit Summary - Rent Roll'!$G$26:$G$325,'Unit Summary - Rent Roll'!$D$26:$D$325,Overview!K$21,'Unit Summary - Rent Roll'!$J$26:$J$325,Overview!$J27)) | L27: =IF(SUMIFS('Unit Summary - Rent Roll'!$G$26:$G$325,'Unit Summary - Rent Roll'!$D$26:$D$325,Overview!L$21,'Unit Summary - Rent Roll'!$J$26:$J$325,Overview!$J27)=0,"",SUMIFS('Unit Summary - Rent Roll'!$G$26:$G$325,'Unit Summary - Rent Roll'!$D$26:$D$325,Overview!L$21,'Unit Summary - Rent Roll'!$J$26:$J$325,Overview!$J27)) | M27: =IF(SUMIFS('Unit Summary - Rent Roll'!$G$26:$G$325,'Unit Summary - Rent Roll'!$D$26:$D$325,Overview!M$21,'Unit Summary - Rent Roll'!$J$26:$J$325,Overview!$J27)=0,"",SUMIFS('Unit Summary - Rent Roll'!$G$26:$G$325,'Unit Summary - Rent Roll'!$D$26:$D$325,Overview!M$21,'Unit Summary - Rent Roll'!$J$26:$J$325,Overview!$J27)) | N27: =IF(SUMIFS('Unit Summary - Rent Roll'!$G$26:$G$325,'Unit Summary - Rent Roll'!$D$26:$D$325,Overview!N$21,'Unit Summary - Rent Roll'!$J$26:$J$325,Overview!$J27)=0,"",SUMIFS('Unit Summary - Rent Roll'!$G$26:$G$325,'Unit Summary - Rent Roll'!$D$26:$D$325,Overview!N$21,'Unit Summary - Rent Roll'!$J$26:$J$325,Overview!$J27)) | O27: =IF(SUMIFS('Unit Summary - Rent Roll'!$G$26:$G$325,'Unit Summary - Rent Roll'!$D$26:$D$325,Overview!O$21,'Unit Summary - Rent Roll'!$J$26:$J$325,Overview!$J27)=0,"",SUMIFS('Unit Summary - Rent Roll'!$G$26:$G$325,'Unit Summary - Rent Roll'!$D$26:$D$325,Overview!O$21,'Unit Summary - Rent Roll'!$J$26:$J$325,Overview!$J27)) | P27: =SUM(K27:O27) -> 0
B28: Construction End Date | C28: =IF(OR(C26="",C27=""),"",EDATE(C26,C27)-1) | E28: Grants | F28: =IF($C$16="SWHP - Standard Workforce Housing Project",SUM('Financials- SWHP'!P21:P23),SUM('Financials-FTHP & GAHP'!M22:M24)) -> 0 | G28: =IFERROR(F28/$C$34,0) -> 0 | H28: =IFERROR(F28/$F$31,0) -> 0 | J28: 0.45 | K28: =IF(SUMIFS('Unit Summary - Rent Roll'!$G$26:$G$325,'Unit Summary - Rent Roll'!$D$26:$D$325,Overview!K$21,'Unit Summary - Rent Roll'!$J$26:$J$325,Overview!$J28)=0,"",SUMIFS('Unit Summary - Rent Roll'!$G$26:$G$325,'Unit Summary - Rent Roll'!$D$26:$D$325,Overview!K$21,'Unit Summary - Rent Roll'!$J$26:$J$325,Overview!$J28)) | L28: =IF(SUMIFS('Unit Summary - Rent Roll'!$G$26:$G$325,'Unit Summary - Rent Roll'!$D$26:$D$325,Overview!L$21,'Unit Summary - Rent Roll'!$J$26:$J$325,Overview!$J28)=0,"",SUMIFS('Unit Summary - Rent Roll'!$G$26:$G$325,'Unit Summary - Rent Roll'!$D$26:$D$325,Overview!L$21,'Unit Summary - Rent Roll'!$J$26:$J$325,Overview!$J28)) | M28: =IF(SUMIFS('Unit Summary - Rent Roll'!$G$26:$G$325,'Unit Summary - Rent Roll'!$D$26:$D$325,Overview!M$21,'Unit Summary - Rent Roll'!$J$26:$J$325,Overview!$J28)=0,"",SUMIFS('Unit Summary - Rent Roll'!$G$26:$G$325,'Unit Summary - Rent Roll'!$D$26:$D$325,Overview!M$21,'Unit Summary - Rent Roll'!$J$26:$J$325,Overview!$J28)) | N28: =IF(SUMIFS('Unit Summary - Rent Roll'!$G$26:$G$325,'Unit Summary - Rent Roll'!$D$26:$D$325,Overview!N$21,'Unit Summary - Rent Roll'!$J$26:$J$325,Overview!$J28)=0,"",SUMIFS('Unit Summary - Rent Roll'!$G$26:$G$325,'Unit Summary - Rent Roll'!$D$26:$D$325,Overview!N$21,'Unit Summary - Rent Roll'!$J$26:$J$325,Overview!$J28)) | O28: =IF(SUMIFS('Unit Summary - Rent Roll'!$G$26:$G$325,'Unit Summary - Rent Roll'!$D$26:$D$325,Overview!O$21,'Unit Summary - Rent Roll'!$J$26:$J$325,Overview!$J28)=0,"",SUMIFS('Unit Summary - Rent Roll'!$G$26:$G$325,'Unit Summary - Rent Roll'!$D$26:$D$325,Overview!O$21,'Unit Summary - Rent Roll'!$J$26:$J$325,Overview!$J28)) | P28: =SUM(K28:O28) -> 0
E29: Other | F29: =IF($C$16="SWHP - Standard Workforce Housing Project",SUM('Financials- SWHP'!P29,'Financials- SWHP'!P32:P33),SUM('Financials-FTHP & GAHP'!M30,'Financials-FTHP & GAHP'!M33:M34)) -> 0 | G29: =IFERROR(F29/$C$34,0) -> 0 | H29: =IFERROR(F29/$F$31,0) -> 0 | J29: 0.5 | K29: =IF(SUMIFS('Unit Summary - Rent Roll'!$G$26:$G$325,'Unit Summary - Rent Roll'!$D$26:$D$325,Overview!K$21,'Unit Summary - Rent Roll'!$J$26:$J$325,Overview!$J29)=0,"",SUMIFS('Unit Summary - Rent Roll'!$G$26:$G$325,'Unit Summary - Rent Roll'!$D$26:$D$325,Overview!K$21,'Unit Summary - Rent Roll'!$J$26:$J$325,Overview!$J29)) | L29: =IF(SUMIFS('Unit Summary - Rent Roll'!$G$26:$G$325,'Unit Summary - Rent Roll'!$D$26:$D$325,Overview!L$21,'Unit Summary - Rent Roll'!$J$26:$J$325,Overview!$J29)=0,"",SUMIFS('Unit Summary - Rent Roll'!$G$26:$G$325,'Unit Summary - Rent Roll'!$D$26:$D$325,Overview!L$21,'Unit Summary - Rent Roll'!$J$26:$J$325,Overview!$J29)) | M29: =IF(SUMIFS('Unit Summary - Rent Roll'!$G$26:$G$325,'Unit Summary - Rent Roll'!$D$26:$D$325,Overview!M$21,'Unit Summary - Rent Roll'!$J$26:$J$325,Overview!$J29)=0,"",SUMIFS('Unit Summary - Rent Roll'!$G$26:$G$325,'Unit Summary - Rent Roll'!$D$26:$D$325,Overview!M$21,'Unit Summary - Rent Roll'!$J$26:$J$325,Overview!$J29)) | N29: =IF(SUMIFS('Unit Summary - Rent Roll'!$G$26:$G$325,'Unit Summary - Rent Roll'!$D$26:$D$325,Overview!N$21,'Unit Summary - Rent Roll'!$J$26:$J$325,Overview!$J29)=0,"",SUMIFS('Unit Summary - Rent Roll'!$G$26:$G$325,'Unit Summary - Rent Roll'!$D$26:$D$325,Overview!N$21,'Unit Summary - Rent Roll'!$J$26:$J$325,Overview!$J29)) | O29: =IF(SUMIFS('Unit Summary - Rent Roll'!$G$26:$G$325,'Unit Summary - Rent Roll'!$D$26:$D$325,Overview!O$21,'Unit Summary - Rent Roll'!$J$26:$J$325,Overview!$J29)=0,"",SUMIFS('Unit Summary - Rent Roll'!$G$26:$G$325,'Unit Summary - Rent Roll'!$D$26:$D$325,Overview!O$21,'Unit Summary - Rent Roll'!$J$26:$J$325,Overview!$J29)) | P29: =SUM(K29:O29) -> 0
B30: PILOT Start Date | E30: Gap | F30: =IF($C$16="SWHP - Standard Workforce Housing Project",'Financials- SWHP'!P31,'Financials-FTHP & GAHP'!M32) -> 0 | G30: =IFERROR(F30/$C$34,0) -> 0 | H30: =IFERROR(F30/$F$31,0) -> 0 | J30: 0.55 | K30: =IF(SUMIFS('Unit Summary - Rent Roll'!$G$26:$G$325,'Unit Summary - Rent Roll'!$D$26:$D$325,Overview!K$21,'Unit Summary - Rent Roll'!$J$26:$J$325,Overview!$J30)=0,"",SUMIFS('Unit Summary - Rent Roll'!$G$26:$G$325,'Unit Summary - Rent Roll'!$D$26:$D$325,Overview!K$21,'Unit Summary - Rent Roll'!$J$26:$J$325,Overview!$J30)) | L30: =IF(SUMIFS('Unit Summary - Rent Roll'!$G$26:$G$325,'Unit Summary - Rent Roll'!$D$26:$D$325,Overview!L$21,'Unit Summary - Rent Roll'!$J$26:$J$325,Overview!$J30)=0,"",SUMIFS('Unit Summary - Rent Roll'!$G$26:$G$325,'Unit Summary - Rent Roll'!$D$26:$D$325,Overview!L$21,'Unit Summary - Rent Roll'!$J$26:$J$325,Overview!$J30)) | M30: =IF(SUMIFS('Unit Summary - Rent Roll'!$G$26:$G$325,'Unit Summary - Rent Roll'!$D$26:$D$325,Overview!M$21,'Unit Summary - Rent Roll'!$J$26:$J$325,Overview!$J30)=0,"",SUMIFS('Unit Summary - Rent Roll'!$G$26:$G$325,'Unit Summary - Rent Roll'!$D$26:$D$325,Overview!M$21,'Unit Summary - Rent Roll'!$J$26:$J$325,Overview!$J30)) | N30: =IF(SUMIFS('Unit Summary - Rent Roll'!$G$26:$G$325,'Unit Summary - Rent Roll'!$D$26:$D$325,Overview!N$21,'Unit Summary - Rent Roll'!$J$26:$J$325,Overview!$J30)=0,"",SUMIFS('Unit Summary - Rent Roll'!$G$26:$G$325,'Unit Summary - Rent Roll'!$D$26:$D$325,Overview!N$21,'Unit Summary - Rent Roll'!$J$26:$J$325,Overview!$J30)) | O30: =IF(SUMIFS('Unit Summary - Rent Roll'!$G$26:$G$325,'Unit Summary - Rent Roll'!$D$26:$D$325,Overview!O$21,'Unit Summary - Rent Roll'!$J$26:$J$325,Overview!$J30)=0,"",SUMIFS('Unit Summary - Rent Roll'!$G$26:$G$325,'Unit Summary - Rent Roll'!$D$26:$D$325,Overview!O$21,'Unit Summary - Rent Roll'!$J$26:$J$325,Overview!$J30)) | P30: =SUM(K30:O30) -> 0
B31: PILOT Calculation Methodology | E31: Total Construction Sources | F31: =SUM(F23:F30) -> 0 | G31: =IFERROR(F31/$C$34,0) -> 0 | H31: =IFERROR(F31/$F$31,0) -> 0 | J31: 0.6 | K31: =IF(SUMIFS('Unit Summary - Rent Roll'!$G$26:$G$325,'Unit Summary - Rent Roll'!$D$26:$D$325,Overview!K$21,'Unit Summary - Rent Roll'!$J$26:$J$325,Overview!$J31)=0,"",SUMIFS('Unit Summary - Rent Roll'!$G$26:$G$325,'Unit Summary - Rent Roll'!$D$26:$D$325,Overview!K$21,'Unit Summary - Rent Roll'!$J$26:$J$325,Overview!$J31)) | L31: =IF(SUMIFS('Unit Summary - Rent Roll'!$G$26:$G$325,'Unit Summary - Rent Roll'!$D$26:$D$325,Overview!L$21,'Unit Summary - Rent Roll'!$J$26:$J$325,Overview!$J31)=0,"",SUMIFS('Unit Summary - Rent Roll'!$G$26:$G$325,'Unit Summary - Rent Roll'!$D$26:$D$325,Overview!L$21,'Unit Summary - Rent Roll'!$J$26:$J$325,Overview!$J31)) | M31: =IF(SUMIFS('Unit Summary - Rent Roll'!$G$26:$G$325,'Unit Summary - Rent Roll'!$D$26:$D$325,Overview!M$21,'Unit Summary - Rent Roll'!$J$26:$J$325,Overview!$J31)=0,"",SUMIFS('Unit Summary - Rent Roll'!$G$26:$G$325,'Unit Summary - Rent Roll'!$D$26:$D$325,Overview!M$21,'Unit Summary - Rent Roll'!$J$26:$J$325,Overview!$J31)) | N31: =IF(SUMIFS('Unit Summary - Rent Roll'!$G$26:$G$325,'Unit Summary - Rent Roll'!$D$26:$D$325,Overview!N$21,'Unit Summary - Rent Roll'!$J$26:$J$325,Overview!$J31)=0,"",SUMIFS('Unit Summary - Rent Roll'!$G$26:$G$325,'Unit Summary - Rent Roll'!$D$26:$D$325,Overview!N$21,'Unit Summary - Rent Roll'!$J$26:$J$325,Overview!$J31)) | O31: =IF(SUMIFS('Unit Summary - Rent Roll'!$G$26:$G$325,'Unit Summary - Rent Roll'!$D$26:$D$325,Overview!O$21,'Unit Summary - Rent Roll'!$J$26:$J$325,Overview!$J31)=0,"",SUMIFS('Unit Summary - Rent Roll'!$G$26:$G$325,'Unit Summary - Rent Roll'!$D$26:$D$325,Overview!O$21,'Unit Summary - Rent Roll'!$J$26:$J$325,Overview!$J31)) | P31: =SUM(K31:O31) -> 0
F32: =IF(F31=F47,TRUE,FALSE) -> TRUE | J32: 0.65 | K32: =IF(SUMIFS('Unit Summary - Rent Roll'!$G$26:$G$325,'Unit Summary - Rent Roll'!$D$26:$D$325,Overview!K$21,'Unit Summary - Rent Roll'!$J$26:$J$325,Overview!$J32)=0,"",SUMIFS('Unit Summary - Rent Roll'!$G$26:$G$325,'Unit Summary - Rent Roll'!$D$26:$D$325,Overview!K$21,'Unit Summary - Rent Roll'!$J$26:$J$325,Overview!$J32)) | L32: =IF(SUMIFS('Unit Summary - Rent Roll'!$G$26:$G$325,'Unit Summary - Rent Roll'!$D$26:$D$325,Overview!L$21,'Unit Summary - Rent Roll'!$J$26:$J$325,Overview!$J32)=0,"",SUMIFS('Unit Summary - Rent Roll'!$G$26:$G$325,'Unit Summary - Rent Roll'!$D$26:$D$325,Overview!L$21,'Unit Summary - Rent Roll'!$J$26:$J$325,Overview!$J32)) | M32: =IF(SUMIFS('Unit Summary - Rent Roll'!$G$26:$G$325,'Unit Summary - Rent Roll'!$D$26:$D$325,Overview!M$21,'Unit Summary - Rent Roll'!$J$26:$J$325,Overview!$J32)=0,"",SUMIFS('Unit Summary - Rent Roll'!$G$26:$G$325,'Unit Summary - Rent Roll'!$D$26:$D$325,Overview!M$21,'Unit Summary - Rent Roll'!$J$26:$J$325,Overview!$J32)) | N32: =IF(SUMIFS('Unit Summary - Rent Roll'!$G$26:$G$325,'Unit Summary - Rent Roll'!$D$26:$D$325,Overview!N$21,'Unit Summary - Rent Roll'!$J$26:$J$325,Overview!$J32)=0,"",SUMIFS('Unit Summary - Rent Roll'!$G$26:$G$325,'Unit Summary - Rent Roll'!$D$26:$D$325,Overview!N$21,'Unit Summary - Rent Roll'!$J$26:$J$325,Overview!$J32)) | O32: =IF(SUMIFS('Unit Summary - Rent Roll'!$G$26:$G$325,'Unit Summary - Rent Roll'!$D$26:$D$325,Overview!O$21,'Unit Summary - Rent Roll'!$J$26:$J$325,Overview!$J32)=0,"",SUMIFS('Unit Summary - Rent Roll'!$G$26:$G$325,'Unit Summary - Rent Roll'!$D$26:$D$325,Overview!O$21,'Unit Summary - Rent Roll'!$J$26:$J$325,Overview!$J32)) | P32: =SUM(K32:O32) -> 0
B33: Gross SF | E33: Permanent Sources | J33: 0.7 | K33: =IF(SUMIFS('Unit Summary - Rent Roll'!$G$26:$G$325,'Unit Summary - Rent Roll'!$D$26:$D$325,Overview!K$21,'Unit Summary - Rent Roll'!$J$26:$J$325,Overview!$J33)=0,"",SUMIFS('Unit Summary - Rent Roll'!$G$26:$G$325,'Unit Summary - Rent Roll'!$D$26:$D$325,Overview!K$21,'Unit Summary - Rent Roll'!$J$26:$J$325,Overview!$J33)) | L33: =IF(SUMIFS('Unit Summary - Rent Roll'!$G$26:$G$325,'Unit Summary - Rent Roll'!$D$26:$D$325,Overview!L$21,'Unit Summary - Rent Roll'!$J$26:$J$325,Overview!$J33)=0,"",SUMIFS('Unit Summary - Rent Roll'!$G$26:$G$325,'Unit Summary - Rent Roll'!$D$26:$D$325,Overview!L$21,'Unit Summary - Rent Roll'!$J$26:$J$325,Overview!$J33)) | M33: =IF(SUMIFS('Unit Summary - Rent Roll'!$G$26:$G$325,'Unit Summary - Rent Roll'!$D$26:$D$325,Overview!M$21,'Unit Summary - Rent Roll'!$J$26:$J$325,Overview!$J33)=0,"",SUMIFS('Unit Summary - Rent Roll'!$G$26:$G$325,'Unit Summary - Rent Roll'!$D$26:$D$325,Overview!M$21,'Unit Summary - Rent Roll'!$J$26:$J$325,Overview!$J33)) | N33: =IF(SUMIFS('Unit Summary - Rent Roll'!$G$26:$G$325,'Unit Summary - Rent Roll'!$D$26:$D$325,Overview!N$21,'Unit Summary - Rent Roll'!$J$26:$J$325,Overview!$J33)=0,"",SUMIFS('Unit Summary - Rent Roll'!$G$26:$G$325,'Unit Summary - Rent Roll'!$D$26:$D$325,Overview!N$21,'Unit Summary - Rent Roll'!$J$26:$J$325,Overview!$J33)) | O33: =IF(SUMIFS('Unit Summary - Rent Roll'!$G$26:$G$325,'Unit Summary - Rent Roll'!$D$26:$D$325,Overview!O$21,'Unit Summary - Rent Roll'!$J$26:$J$325,Overview!$J33)=0,"",SUMIFS('Unit Summary - Rent Roll'!$G$26:$G$325,'Unit Summary - Rent Roll'!$D$26:$D$325,Overview!O$21,'Unit Summary - Rent Roll'!$J$26:$J$325,Overview!$J33)) | P33: =SUM(K33:O33) -> 0
B34: # of Residential Units | C34: ='Unit Summary - Rent Roll'!G326 -> 0 | E34: New Equity | F34: =IF($C$16="SWHP - Standard Workforce Housing Project",'Financials- SWHP'!P48,'Financials-FTHP & GAHP'!M49) -> 0 | G34: =IFERROR(F34/$C$34,0) -> 0 | H34: =IFERROR(F34/$F$41,0) -> 0 | J34: 0.75 | K34: =IF(SUMIFS('Unit Summary - Rent Roll'!$G$26:$G$325,'Unit Summary - Rent Roll'!$D$26:$D$325,Overview!K$21,'Unit Summary - Rent Roll'!$J$26:$J$325,Overview!$J34)=0,"",SUMIFS('Unit Summary - Rent Roll'!$G$26:$G$325,'Unit Summary - Rent Roll'!$D$26:$D$325,Overview!K$21,'Unit Summary - Rent Roll'!$J$26:$J$325,Overview!$J34)) | L34: =IF(SUMIFS('Unit Summary - Rent Roll'!$G$26:$G$325,'Unit Summary - Rent Roll'!$D$26:$D$325,Overview!L$21,'Unit Summary - Rent Roll'!$J$26:$J$325,Overview!$J34)=0,"",SUMIFS('Unit Summary - Rent Roll'!$G$26:$G$325,'Unit Summary - Rent Roll'!$D$26:$D$325,Overview!L$21,'Unit Summary - Rent Roll'!$J$26:$J$325,Overview!$J34)) | M34: =IF(SUMIFS('Unit Summary - Rent Roll'!$G$26:$G$325,'Unit Summary - Rent Roll'!$D$26:$D$325,Overview!M$21,'Unit Summary - Rent Roll'!$J$26:$J$325,Overview!$J34)=0,"",SUMIFS('Unit Summary - Rent Roll'!$G$26:$G$325,'Unit Summary - Rent Roll'!$D$26:$D$325,Overview!M$21,'Unit Summary - Rent Roll'!$J$26:$J$325,Overview!$J34)) | N34: =IF(SUMIFS('Unit Summary - Rent Roll'!$G$26:$G$325,'Unit Summary - Rent Roll'!$D$26:$D$325,Overview!N$21,'Unit Summary - Rent Roll'!$J$26:$J$325,Overview!$J34)=0,"",SUMIFS('Unit Summary - Rent Roll'!$G$26:$G$325,'Unit Summary - Rent Roll'!$D$26:$D$325,Overview!N$21,'Unit Summary - Rent Roll'!$J$26:$J$325,Overview!$J34)) | O34: =IF(SUMIFS('Unit Summary - Rent Roll'!$G$26:$G$325,'Unit Summary - Rent Roll'!$D$26:$D$325,Overview!O$21,'Unit Summary - Rent Roll'!$J$26:$J$325,Overview!$J34)=0,"",SUMIFS('Unit Summary - Rent Roll'!$G$26:$G$325,'Unit Summary - Rent Roll'!$D$26:$D$325,Overview!O$21,'Unit Summary - Rent Roll'!$J$26:$J$325,Overview!$J34)) | P34: =SUM(K34:O34) -> 0
B35: Market-Rate Units | C35: =SUMIFS(OFFSET('Unit Summary - Rent Roll'!$G$25,1,0):OFFSET('Unit Summary - Rent Roll'!$G$326,-1,0),OFFSET('Unit Summary - Rent Roll'!$J$25,1,0):OFFSET('Unit Summary - Rent Roll'!$J$326,-1,0),"None - Market") -> 0 | E35: Tax Credit Equity | F35: =IF($C$16="SWHP - Standard Workforce Housing Project",SUM('Financials- SWHP'!P44:P45),SUM('Financials-FTHP & GAHP'!M45:M46)) -> 0 | G35: =IFERROR(F35/$C$34,0) -> 0 | H35: =IFERROR(F35/$F$41,0) -> 0 | J35: 0.8 | K35: =IF(SUMIFS('Unit Summary - Rent Roll'!$G$26:$G$325,'Unit Summary - Rent Roll'!$D$26:$D$325,Overview!K$21,'Unit Summary - Rent Roll'!$J$26:$J$325,Overview!$J35)=0,"",SUMIFS('Unit Summary - Rent Roll'!$G$26:$G$325,'Unit Summary - Rent Roll'!$D$26:$D$325,Overview!K$21,'Unit Summary - Rent Roll'!$J$26:$J$325,Overview!$J35)) | L35: =IF(SUMIFS('Unit Summary - Rent Roll'!$G$26:$G$325,'Unit Summary - Rent Roll'!$D$26:$D$325,Overview!L$21,'Unit Summary - Rent Roll'!$J$26:$J$325,Overview!$J35)=0,"",SUMIFS('Unit Summary - Rent Roll'!$G$26:$G$325,'Unit Summary - Rent Roll'!$D$26:$D$325,Overview!L$21,'Unit Summary - Rent Roll'!$J$26:$J$325,Overview!$J35)) | M35: =IF(SUMIFS('Unit Summary - Rent Roll'!$G$26:$G$325,'Unit Summary - Rent Roll'!$D$26:$D$325,Overview!M$21,'Unit Summary - Rent Roll'!$J$26:$J$325,Overview!$J35)=0,"",SUMIFS('Unit Summary - Rent Roll'!$G$26:$G$325,'Unit Summary - Rent Roll'!$D$26:$D$325,Overview!M$21,'Unit Summary - Rent Roll'!$J$26:$J$325,Overview!$J35)) | N35: =IF(SUMIFS('Unit Summary - Rent Roll'!$G$26:$G$325,'Unit Summary - Rent Roll'!$D$26:$D$325,Overview!N$21,'Unit Summary - Rent Roll'!$J$26:$J$325,Overview!$J35)=0,"",SUMIFS('Unit Summary - Rent Roll'!$G$26:$G$325,'Unit Summary - Rent Roll'!$D$26:$D$325,Overview!N$21,'Unit Summary - Rent Roll'!$J$26:$J$325,Overview!$J35)) | O35: =IF(SUMIFS('Unit Summary - Rent Roll'!$G$26:$G$325,'Unit Summary - Rent Roll'!$D$26:$D$325,Overview!O$21,'Unit Summary - Rent Roll'!$J$26:$J$325,Overview!$J35)=0,"",SUMIFS('Unit Summary - Rent Roll'!$G$26:$G$325,'Unit Summary - Rent Roll'!$D$26:$D$325,Overview!O$21,'Unit Summary - Rent Roll'!$J$26:$J$325,Overview!$J35)) | P35: =SUM(K35:O35) -> 0
B36: Affordable Units | C36: =SUMIFS(OFFSET('Unit Summary - Rent Roll'!$G$25,1,0):OFFSET('Unit Summary - Rent Roll'!$G$326,-1,0),OFFSET('Unit Summary - Rent Roll'!$J$25,1,0):OFFSET('Unit Summary - Rent Roll'!$J$326,-1,0),">0") -> 0 | E36: Permanent Loan | F36: =IF($C$16="SWHP - Standard Workforce Housing Project",SUM('Financials- SWHP'!P37:P40),SUM('Financials-FTHP & GAHP'!M38:M41)) -> 0 | G36: =IFERROR(F36/$C$34,0) -> 0 | H36: =IFERROR(F36/$F$41,0) -> 0 | J36: 0.85 | K36: =IF(SUMIFS('Unit Summary - Rent Roll'!$G$26:$G$325,'Unit Summary - Rent Roll'!$D$26:$D$325,Overview!K$21,'Unit Summary - Rent Roll'!$J$26:$J$325,Overview!$J36)=0,"",SUMIFS('Unit Summary - Rent Roll'!$G$26:$G$325,'Unit Summary - Rent Roll'!$D$26:$D$325,Overview!K$21,'Unit Summary - Rent Roll'!$J$26:$J$325,Overview!$J36)) | L36: =IF(SUMIFS('Unit Summary - Rent Roll'!$G$26:$G$325,'Unit Summary - Rent Roll'!$D$26:$D$325,Overview!L$21,'Unit Summary - Rent Roll'!$J$26:$J$325,Overview!$J36)=0,"",SUMIFS('Unit Summary - Rent Roll'!$G$26:$G$325,'Unit Summary - Rent Roll'!$D$26:$D$325,Overview!L$21,'Unit Summary - Rent Roll'!$J$26:$J$325,Overview!$J36)) | M36: =IF(SUMIFS('Unit Summary - Rent Roll'!$G$26:$G$325,'Unit Summary - Rent Roll'!$D$26:$D$325,Overview!M$21,'Unit Summary - Rent Roll'!$J$26:$J$325,Overview!$J36)=0,"",SUMIFS('Unit Summary - Rent Roll'!$G$26:$G$325,'Unit Summary - Rent Roll'!$D$26:$D$325,Overview!M$21,'Unit Summary - Rent Roll'!$J$26:$J$325,Overview!$J36)) | N36: =IF(SUMIFS('Unit Summary - Rent Roll'!$G$26:$G$325,'Unit Summary - Rent Roll'!$D$26:$D$325,Overview!N$21,'Unit Summary - Rent Roll'!$J$26:$J$325,Overview!$J36)=0,"",SUMIFS('Unit Summary - Rent Roll'!$G$26:$G$325,'Unit Summary - Rent Roll'!$D$26:$D$325,Overview!N$21,'Unit Summary - Rent Roll'!$J$26:$J$325,Overview!$J36)) | O36: =IF(SUMIFS('Unit Summary - Rent Roll'!$G$26:$G$325,'Unit Summary - Rent Roll'!$D$26:$D$325,Overview!O$21,'Unit Summary - Rent Roll'!$J$26:$J$325,Overview!$J36)=0,"",SUMIFS('Unit Summary - Rent Roll'!$G$26:$G$325,'Unit Summary - Rent Roll'!$D$26:$D$325,Overview!O$21,'Unit Summary - Rent Roll'!$J$26:$J$325,Overview!$J36)) | P36: =SUM(K36:O36) -> 0
B37: PSH Units | C37: =SUMIFS(OFFSET('Unit Summary - Rent Roll'!$G$25,1,0):OFFSET('Unit Summary - Rent Roll'!$G$326,-1,0),OFFSET('Unit Summary - Rent Roll'!$J$25,1,0):OFFSET('Unit Summary - Rent Roll'!$J$326,-1,0),"PSH") -> 0 | E37: Deferred Developer Fee | F37: =IF($C$16="SWHP - Standard Workforce Housing Project",'Financials- SWHP'!P46,'Financials-FTHP & GAHP'!M47) -> 0 | G37: =IFERROR(F37/$C$34,0) -> 0 | H37: =IFERROR(F37/$F$41,0) -> 0 | J37: 0.9 | K37: =IF(SUMIFS('Unit Summary - Rent Roll'!$G$26:$G$325,'Unit Summary - Rent Roll'!$D$26:$D$325,Overview!K$21,'Unit Summary - Rent Roll'!$J$26:$J$325,Overview!$J37)=0,"",SUMIFS('Unit Summary - Rent Roll'!$G$26:$G$325,'Unit Summary - Rent Roll'!$D$26:$D$325,Overview!K$21,'Unit Summary - Rent Roll'!$J$26:$J$325,Overview!$J37)) | L37: =IF(SUMIFS('Unit Summary - Rent Roll'!$G$26:$G$325,'Unit Summary - Rent Roll'!$D$26:$D$325,Overview!L$21,'Unit Summary - Rent Roll'!$J$26:$J$325,Overview!$J37)=0,"",SUMIFS('Unit Summary - Rent Roll'!$G$26:$G$325,'Unit Summary - Rent Roll'!$D$26:$D$325,Overview!L$21,'Unit Summary - Rent Roll'!$J$26:$J$325,Overview!$J37)) | M37: =IF(SUMIFS('Unit Summary - Rent Roll'!$G$26:$G$325,'Unit Summary - Rent Roll'!$D$26:$D$325,Overview!M$21,'Unit Summary - Rent Roll'!$J$26:$J$325,Overview!$J37)=0,"",SUMIFS('Unit Summary - Rent Roll'!$G$26:$G$325,'Unit Summary - Rent Roll'!$D$26:$D$325,Overview!M$21,'Unit Summary - Rent Roll'!$J$26:$J$325,Overview!$J37)) | N37: =IF(SUMIFS('Unit Summary - Rent Roll'!$G$26:$G$325,'Unit Summary - Rent Roll'!$D$26:$D$325,Overview!N$21,'Unit Summary - Rent Roll'!$J$26:$J$325,Overview!$J37)=0,"",SUMIFS('Unit Summary - Rent Roll'!$G$26:$G$325,'Unit Summary - Rent Roll'!$D$26:$D$325,Overview!N$21,'Unit Summary - Rent Roll'!$J$26:$J$325,Overview!$J37)) | O37: =IF(SUMIFS('Unit Summary - Rent Roll'!$G$26:$G$325,'Unit Summary - Rent Roll'!$D$26:$D$325,Overview!O$21,'Unit Summary - Rent Roll'!$J$26:$J$325,Overview!$J37)=0,"",SUMIFS('Unit Summary - Rent Roll'!$G$26:$G$325,'Unit Summary - Rent Roll'!$D$26:$D$325,Overview!O$21,'Unit Summary - Rent Roll'!$J$26:$J$325,Overview!$J37)) | P37: =SUM(K37:O37) -> 0
B38: Commercial Units | E38: Grants | F38: =IF($C$16="SWHP - Standard Workforce Housing Project",SUM('Financials- SWHP'!P41:P43),SUM('Financials-FTHP & GAHP'!M42:M44)) -> 0 | G38: =IFERROR(F38/$C$34,0) -> 0 | H38: =IFERROR(F38/$F$41,0) -> 0 | J38: 0.95 | K38: =IF(SUMIFS('Unit Summary - Rent Roll'!$G$26:$G$325,'Unit Summary - Rent Roll'!$D$26:$D$325,Overview!K$21,'Unit Summary - Rent Roll'!$J$26:$J$325,Overview!$J38)=0,"",SUMIFS('Unit Summary - Rent Roll'!$G$26:$G$325,'Unit Summary - Rent Roll'!$D$26:$D$325,Overview!K$21,'Unit Summary - Rent Roll'!$J$26:$J$325,Overview!$J38)) | L38: =IF(SUMIFS('Unit Summary - Rent Roll'!$G$26:$G$325,'Unit Summary - Rent Roll'!$D$26:$D$325,Overview!L$21,'Unit Summary - Rent Roll'!$J$26:$J$325,Overview!$J38)=0,"",SUMIFS('Unit Summary - Rent Roll'!$G$26:$G$325,'Unit Summary - Rent Roll'!$D$26:$D$325,Overview!L$21,'Unit Summary - Rent Roll'!$J$26:$J$325,Overview!$J38)) | M38: =IF(SUMIFS('Unit Summary - Rent Roll'!$G$26:$G$325,'Unit Summary - Rent Roll'!$D$26:$D$325,Overview!M$21,'Unit Summary - Rent Roll'!$J$26:$J$325,Overview!$J38)=0,"",SUMIFS('Unit Summary - Rent Roll'!$G$26:$G$325,'Unit Summary - Rent Roll'!$D$26:$D$325,Overview!M$21,'Unit Summary - Rent Roll'!$J$26:$J$325,Overview!$J38)) | N38: =IF(SUMIFS('Unit Summary - Rent Roll'!$G$26:$G$325,'Unit Summary - Rent Roll'!$D$26:$D$325,Overview!N$21,'Unit Summary - Rent Roll'!$J$26:$J$325,Overview!$J38)=0,"",SUMIFS('Unit Summary - Rent Roll'!$G$26:$G$325,'Unit Summary - Rent Roll'!$D$26:$D$325,Overview!N$21,'Unit Summary - Rent Roll'!$J$26:$J$325,Overview!$J38)) | O38: =IF(SUMIFS('Unit Summary - Rent Roll'!$G$26:$G$325,'Unit Summary - Rent Roll'!$D$26:$D$325,Overview!O$21,'Unit Summary - Rent Roll'!$J$26:$J$325,Overview!$J38)=0,"",SUMIFS('Unit Summary - Rent Roll'!$G$26:$G$325,'Unit Summary - Rent Roll'!$D$26:$D$325,Overview!O$21,'Unit Summary - Rent Roll'!$J$26:$J$325,Overview!$J38)) | P38: =SUM(K38:O38) -> 0
B39: Residential Rentable SF | C39: ='Unit Summary - Rent Roll'!$H$326 -> 0 | E39: Other | F39: =IF($C$16="SWHP - Standard Workforce Housing Project",SUM('Financials- SWHP'!P47,'Financials- SWHP'!P50:P51),SUM('Financials-FTHP & GAHP'!M48,'Financials-FTHP & GAHP'!M51:M52)) -> 0 | G39: =IFERROR(F39/$C$34,0) -> 0 | H39: =IFERROR(F39/$F$41,0) -> 0 | J39: 1 | K39: =IF(SUMIFS('Unit Summary - Rent Roll'!$G$26:$G$325,'Unit Summary - Rent Roll'!$D$26:$D$325,Overview!K$21,'Unit Summary - Rent Roll'!$J$26:$J$325,Overview!$J39)=0,"",SUMIFS('Unit Summary - Rent Roll'!$G$26:$G$325,'Unit Summary - Rent Roll'!$D$26:$D$325,Overview!K$21,'Unit Summary - Rent Roll'!$J$26:$J$325,Overview!$J39)) | L39: =IF(SUMIFS('Unit Summary - Rent Roll'!$G$26:$G$325,'Unit Summary - Rent Roll'!$D$26:$D$325,Overview!L$21,'Unit Summary - Rent Roll'!$J$26:$J$325,Overview!$J39)=0,"",SUMIFS('Unit Summary - Rent Roll'!$G$26:$G$325,'Unit Summary - Rent Roll'!$D$26:$D$325,Overview!L$21,'Unit Summary - Rent Roll'!$J$26:$J$325,Overview!$J39)) | M39: =IF(SUMIFS('Unit Summary - Rent Roll'!$G$26:$G$325,'Unit Summary - Rent Roll'!$D$26:$D$325,Overview!M$21,'Unit Summary - Rent Roll'!$J$26:$J$325,Overview!$J39)=0,"",SUMIFS('Unit Summary - Rent Roll'!$G$26:$G$325,'Unit Summary - Rent Roll'!$D$26:$D$325,Overview!M$21,'Unit Summary - Rent Roll'!$J$26:$J$325,Overview!$J39)) | N39: =IF(SUMIFS('Unit Summary - Rent Roll'!$G$26:$G$325,'Unit Summary - Rent Roll'!$D$26:$D$325,Overview!N$21,'Unit Summary - Rent Roll'!$J$26:$J$325,Overview!$J39)=0,"",SUMIFS('Unit Summary - Rent Roll'!$G$26:$G$325,'Unit Summary - Rent Roll'!$D$26:$D$325,Overview!N$21,'Unit Summary - Rent Roll'!$J$26:$J$325,Overview!$J39)) | O39: =IF(SUMIFS('Unit Summary - Rent Roll'!$G$26:$G$325,'Unit Summary - Rent Roll'!$D$26:$D$325,Overview!O$21,'Unit Summary - Rent Roll'!$J$26:$J$325,Overview!$J39)=0,"",SUMIFS('Unit Summary - Rent Roll'!$G$26:$G$325,'Unit Summary - Rent Roll'!$D$26:$D$325,Overview!O$21,'Unit Summary - Rent Roll'!$J$26:$J$325,Overview!$J39)) | P39: =SUM(K39:O39) -> 0
B40: Market-Rate Rentable SF | C40: =SUMIFS(OFFSET('Unit Summary - Rent Roll'!$H$25,1,0):OFFSET('Unit Summary - Rent Roll'!$H$326,-1,0),OFFSET('Unit Summary - Rent Roll'!$J$25,1,0):OFFSET('Unit Summary - Rent Roll'!$J$326,-1,0),"None - Market") -> 0 | E40: Gap | F40: =IF($C$16="SWHP - Standard Workforce Housing Project",'Financials- SWHP'!P49,'Financials-FTHP & GAHP'!M50) -> 0 | G40: =IFERROR(F40/$C$34,0) -> 0 | H40: =IFERROR(F40/$F$41,0) -> 0 | J40: 1.05 | K40: =IF(SUMIFS('Unit Summary - Rent Roll'!$G$26:$G$325,'Unit Summary - Rent Roll'!$D$26:$D$325,Overview!K$21,'Unit Summary - Rent Roll'!$J$26:$J$325,Overview!$J40)=0,"",SUMIFS('Unit Summary - Rent Roll'!$G$26:$G$325,'Unit Summary - Rent Roll'!$D$26:$D$325,Overview!K$21,'Unit Summary - Rent Roll'!$J$26:$J$325,Overview!$J40)) | L40: =IF(SUMIFS('Unit Summary - Rent Roll'!$G$26:$G$325,'Unit Summary - Rent Roll'!$D$26:$D$325,Overview!L$21,'Unit Summary - Rent Roll'!$J$26:$J$325,Overview!$J40)=0,"",SUMIFS('Unit Summary - Rent Roll'!$G$26:$G$325,'Unit Summary - Rent Roll'!$D$26:$D$325,Overview!L$21,'Unit Summary - Rent Roll'!$J$26:$J$325,Overview!$J40)) | M40: =IF(SUMIFS('Unit Summary - Rent Roll'!$G$26:$G$325,'Unit Summary - Rent Roll'!$D$26:$D$325,Overview!M$21,'Unit Summary - Rent Roll'!$J$26:$J$325,Overview!$J40)=0,"",SUMIFS('Unit Summary - Rent Roll'!$G$26:$G$325,'Unit Summary - Rent Roll'!$D$26:$D$325,Overview!M$21,'Unit Summary - Rent Roll'!$J$26:$J$325,Overview!$J40)) | N40: =IF(SUMIFS('Unit Summary - Rent Roll'!$G$26:$G$325,'Unit Summary - Rent Roll'!$D$26:$D$325,Overview!N$21,'Unit Summary - Rent Roll'!$J$26:$J$325,Overview!$J40)=0,"",SUMIFS('Unit Summary - Rent Roll'!$G$26:$G$325,'Unit Summary - Rent Roll'!$D$26:$D$325,Overview!N$21,'Unit Summary - Rent Roll'!$J$26:$J$325,Overview!$J40)) | O40: =IF(SUMIFS('Unit Summary - Rent Roll'!$G$26:$G$325,'Unit Summary - Rent Roll'!$D$26:$D$325,Overview!O$21,'Unit Summary - Rent Roll'!$J$26:$J$325,Overview!$J40)=0,"",SUMIFS('Unit Summary - Rent Roll'!$G$26:$G$325,'Unit Summary - Rent Roll'!$D$26:$D$325,Overview!O$21,'Unit Summary - Rent Roll'!$J$26:$J$325,Overview!$J40)) | P40: =SUM(K40:O40) -> 0
B41: Affordable Rentable SF | C41: =SUMIFS(OFFSET('Unit Summary - Rent Roll'!$H$25,1,0):OFFSET('Unit Summary - Rent Roll'!$H$326,-1,0),OFFSET('Unit Summary - Rent Roll'!$J$25,1,0):OFFSET('Unit Summary - Rent Roll'!$J$326,-1,0),">0") -> 0 | E41: Total Permanent Sources | F41: =SUM(F34:F40) -> 0 | G41: =IFERROR(F41/$C$34,0) -> 0 | H41: =IFERROR(F41/$F$41,0) -> 0 | J41: 1.1 | K41: =IF(SUMIFS('Unit Summary - Rent Roll'!$G$26:$G$325,'Unit Summary - Rent Roll'!$D$26:$D$325,Overview!K$21,'Unit Summary - Rent Roll'!$J$26:$J$325,Overview!$J41)=0,"",SUMIFS('Unit Summary - Rent Roll'!$G$26:$G$325,'Unit Summary - Rent Roll'!$D$26:$D$325,Overview!K$21,'Unit Summary - Rent Roll'!$J$26:$J$325,Overview!$J41)) | L41: =IF(SUMIFS('Unit Summary - Rent Roll'!$G$26:$G$325,'Unit Summary - Rent Roll'!$D$26:$D$325,Overview!L$21,'Unit Summary - Rent Roll'!$J$26:$J$325,Overview!$J41)=0,"",SUMIFS('Unit Summary - Rent Roll'!$G$26:$G$325,'Unit Summary - Rent Roll'!$D$26:$D$325,Overview!L$21,'Unit Summary - Rent Roll'!$J$26:$J$325,Overview!$J41)) | M41: =IF(SUMIFS('Unit Summary - Rent Roll'!$G$26:$G$325,'Unit Summary - Rent Roll'!$D$26:$D$325,Overview!M$21,'Unit Summary - Rent Roll'!$J$26:$J$325,Overview!$J41)=0,"",SUMIFS('Unit Summary - Rent Roll'!$G$26:$G$325,'Unit Summary - Rent Roll'!$D$26:$D$325,Overview!M$21,'Unit Summary - Rent Roll'!$J$26:$J$325,Overview!$J41)) | N41: =IF(SUMIFS('Unit Summary - Rent Roll'!$G$26:$G$325,'Unit Summary - Rent Roll'!$D$26:$D$325,Overview!N$21,'Unit Summary - Rent Roll'!$J$26:$J$325,Overview!$J41)=0,"",SUMIFS('Unit Summary - Rent Roll'!$G$26:$G$325,'Unit Summary - Rent Roll'!$D$26:$D$325,Overview!N$21,'Unit Summary - Rent Roll'!$J$26:$J$325,Overview!$J41)) | O41: =IF(SUMIFS('Unit Summary - Rent Roll'!$G$26:$G$325,'Unit Summary - Rent Roll'!$D$26:$D$325,Overview!O$21,'Unit Summary - Rent Roll'!$J$26:$J$325,Overview!$J41)=0,"",SUMIFS('Unit Summary - Rent Roll'!$G$26:$G$325,'Unit Summary - Rent Roll'!$D$26:$D$325,Overview!O$21,'Unit Summary - Rent Roll'!$J$26:$J$325,Overview!$J41)) | P41: =SUM(K41:O41) -> 0
B42: Commercial Rentable SF | F42: =IF(F41=F47,TRUE,FALSE) -> TRUE | J42: 1.15 | K42: =IF(SUMIFS('Unit Summary - Rent Roll'!$G$26:$G$325,'Unit Summary - Rent Roll'!$D$26:$D$325,Overview!K$21,'Unit Summary - Rent Roll'!$J$26:$J$325,Overview!$J42)=0,"",SUMIFS('Unit Summary - Rent Roll'!$G$26:$G$325,'Unit Summary - Rent Roll'!$D$26:$D$325,Overview!K$21,'Unit Summary - Rent Roll'!$J$26:$J$325,Overview!$J42)) | L42: =IF(SUMIFS('Unit Summary - Rent Roll'!$G$26:$G$325,'Unit Summary - Rent Roll'!$D$26:$D$325,Overview!L$21,'Unit Summary - Rent Roll'!$J$26:$J$325,Overview!$J42)=0,"",SUMIFS('Unit Summary - Rent Roll'!$G$26:$G$325,'Unit Summary - Rent Roll'!$D$26:$D$325,Overview!L$21,'Unit Summary - Rent Roll'!$J$26:$J$325,Overview!$J42)) | M42: =IF(SUMIFS('Unit Summary - Rent Roll'!$G$26:$G$325,'Unit Summary - Rent Roll'!$D$26:$D$325,Overview!M$21,'Unit Summary - Rent Roll'!$J$26:$J$325,Overview!$J42)=0,"",SUMIFS('Unit Summary - Rent Roll'!$G$26:$G$325,'Unit Summary - Rent Roll'!$D$26:$D$325,Overview!M$21,'Unit Summary - Rent Roll'!$J$26:$J$325,Overview!$J42)) | N42: =IF(SUMIFS('Unit Summary - Rent Roll'!$G$26:$G$325,'Unit Summary - Rent Roll'!$D$26:$D$325,Overview!N$21,'Unit Summary - Rent Roll'!$J$26:$J$325,Overview!$J42)=0,"",SUMIFS('Unit Summary - Rent Roll'!$G$26:$G$325,'Unit Summary - Rent Roll'!$D$26:$D$325,Overview!N$21,'Unit Summary - Rent Roll'!$J$26:$J$325,Overview!$J42)) | O42: =IF(SUMIFS('Unit Summary - Rent Roll'!$G$26:$G$325,'Unit Summary - Rent Roll'!$D$26:$D$325,Overview!O$21,'Unit Summary - Rent Roll'!$J$26:$J$325,Overview!$J42)=0,"",SUMIFS('Unit Summary - Rent Roll'!$G$26:$G$325,'Unit Summary - Rent Roll'!$D$26:$D$325,Overview!O$21,'Unit Summary - Rent Roll'!$J$26:$J$325,Overview!$J42)) | P42: =SUM(K42:O42) -> 0
B43: Non-Rentable SF | C43: =C33-C39-C42 -> 0 | E43: Uses | J43: 1.2 | K43: =IF(SUMIFS('Unit Summary - Rent Roll'!$G$26:$G$325,'Unit Summary - Rent Roll'!$D$26:$D$325,Overview!K$21,'Unit Summary - Rent Roll'!$J$26:$J$325,Overview!$J43)=0,"",SUMIFS('Unit Summary - Rent Roll'!$G$26:$G$325,'Unit Summary - Rent Roll'!$D$26:$D$325,Overview!K$21,'Unit Summary - Rent Roll'!$J$26:$J$325,Overview!$J43)) | L43: =IF(SUMIFS('Unit Summary - Rent Roll'!$G$26:$G$325,'Unit Summary - Rent Roll'!$D$26:$D$325,Overview!L$21,'Unit Summary - Rent Roll'!$J$26:$J$325,Overview!$J43)=0,"",SUMIFS('Unit Summary - Rent Roll'!$G$26:$G$325,'Unit Summary - Rent Roll'!$D$26:$D$325,Overview!L$21,'Unit Summary - Rent Roll'!$J$26:$J$325,Overview!$J43)) | M43: =IF(SUMIFS('Unit Summary - Rent Roll'!$G$26:$G$325,'Unit Summary - Rent Roll'!$D$26:$D$325,Overview!M$21,'Unit Summary - Rent Roll'!$J$26:$J$325,Overview!$J43)=0,"",SUMIFS('Unit Summary - Rent Roll'!$G$26:$G$325,'Unit Summary - Rent Roll'!$D$26:$D$325,Overview!M$21,'Unit Summary - Rent Roll'!$J$26:$J$325,Overview!$J43)) | N43: =IF(SUMIFS('Unit Summary - Rent Roll'!$G$26:$G$325,'Unit Summary - Rent Roll'!$D$26:$D$325,Overview!N$21,'Unit Summary - Rent Roll'!$J$26:$J$325,Overview!$J43)=0,"",SUMIFS('Unit Summary - Rent Roll'!$G$26:$G$325,'Unit Summary - Rent Roll'!$D$26:$D$325,Overview!N$21,'Unit Summary - Rent Roll'!$J$26:$J$325,Overview!$J43)) | O43: =IF(SUMIFS('Unit Summary - Rent Roll'!$G$26:$G$325,'Unit Summary - Rent Roll'!$D$26:$D$325,Overview!O$21,'Unit Summary - Rent Roll'!$J$26:$J$325,Overview!$J43)=0,"",SUMIFS('Unit Summary - Rent Roll'!$G$26:$G$325,'Unit Summary - Rent Roll'!$D$26:$D$325,Overview!O$21,'Unit Summary - Rent Roll'!$J$26:$J$325,Overview!$J43)) | P43: =SUM(K43:O43) -> 0
B44: Occupancy % | C44: ='Unit Summary - Rent Roll'!F327 -> 0 | E44: Acquisition Costs | F44: =IF($C$16="SWHP - Standard Workforce Housing Project",'Financials- SWHP'!P55,'Financials-FTHP & GAHP'!M56) -> 0 | G44: =IFERROR(F44/$C$34,0) -> 0 | H44: =IFERROR(F44/$F$47,0) -> 0 | J44: None - Market | K44: =IF(SUMIFS('Unit Summary - Rent Roll'!$G$26:$G$325,'Unit Summary - Rent Roll'!$D$26:$D$325,Overview!K$21,'Unit Summary - Rent Roll'!$J$26:$J$325,Overview!$J44)=0,"",SUMIFS('Unit Summary - Rent Roll'!$G$26:$G$325,'Unit Summary - Rent Roll'!$D$26:$D$325,Overview!K$21,'Unit Summary - Rent Roll'!$J$26:$J$325,Overview!$J44)) | L44: =IF(SUMIFS('Unit Summary - Rent Roll'!$G$26:$G$325,'Unit Summary - Rent Roll'!$D$26:$D$325,Overview!L$21,'Unit Summary - Rent Roll'!$J$26:$J$325,Overview!$J44)=0,"",SUMIFS('Unit Summary - Rent Roll'!$G$26:$G$325,'Unit Summary - Rent Roll'!$D$26:$D$325,Overview!L$21,'Unit Summary - Rent Roll'!$J$26:$J$325,Overview!$J44)) | M44: =IF(SUMIFS('Unit Summary - Rent Roll'!$G$26:$G$325,'Unit Summary - Rent Roll'!$D$26:$D$325,Overview!M$21,'Unit Summary - Rent Roll'!$J$26:$J$325,Overview!$J44)=0,"",SUMIFS('Unit Summary - Rent Roll'!$G$26:$G$325,'Unit Summary - Rent Roll'!$D$26:$D$325,Overview!M$21,'Unit Summary - Rent Roll'!$J$26:$J$325,Overview!$J44)) | N44: =IF(SUMIFS('Unit Summary - Rent Roll'!$G$26:$G$325,'Unit Summary - Rent Roll'!$D$26:$D$325,Overview!N$21,'Unit Summary - Rent Roll'!$J$26:$J$325,Overview!$J44)=0,"",SUMIFS('Unit Summary - Rent Roll'!$G$26:$G$325,'Unit Summary - Rent Roll'!$D$26:$D$325,Overview!N$21,'Unit Summary - Rent Roll'!$J$26:$J$325,Overview!$J44)) | O44: =IF(SUMIFS('Unit Summary - Rent Roll'!$G$26:$G$325,'Unit Summary - Rent Roll'!$D$26:$D$325,Overview!O$21,'Unit Summary - Rent Roll'!$J$26:$J$325,Overview!$J44)=0,"",SUMIFS('Unit Summary - Rent Roll'!$G$26:$G$325,'Unit Summary - Rent Roll'!$D$26:$D$325,Overview!O$21,'Unit Summary - Rent Roll'!$J$26:$J$325,Overview!$J44)) | P44: =SUM(K44:O44) -> 0
B45: Average AMI % | C45: ='Unit Summary - Rent Roll'!J326 -> NA | E45: Hard Costs | F45: =IF($C$16="SWHP - Standard Workforce Housing Project",'Financials- SWHP'!P56,'Financials-FTHP & GAHP'!M57) -> 0 | G45: =IFERROR(F45/$C$34,0) -> 0 | H45: =IFERROR(F45/$F$47,0) -> 0 | J45: Total | K45: =SUM(K22:K44) -> 0 | L45: =SUM(L22:L44) -> 0 | M45: =SUM(M22:M44) -> 0 | N45: =SUM(N22:N44) -> 0 | O45: =SUM(O22:O44) -> 0 | P45: =SUM(P22:P44) -> 0
B46: % of Affordable Units | C46: ='Unit Summary - Rent Roll'!J327 -> NA | E46: Soft Costs | F46: =IF($C$16="SWHP - Standard Workforce Housing Project",'Financials- SWHP'!P57,'Financials-FTHP & GAHP'!M58) -> 0 | G46: =IFERROR(F46/$C$34,0) -> 0 | H46: =IFERROR(F46/$F$47,0) -> 0
E47: Total Uses | F47: =SUM(F44:F46) -> 0 | G47: =IFERROR(F47/$C$34,0) -> 0 | H47: =IFERROR(F47/$F$47,0) -> 0 | J47: Gross Potential Rent Escalation Table - For Assessor's Office Only
...

Sheet Unit Summary - Rent Roll
B1: City of Detroit Housing & Revitalization Department
B2: Rent Roll
B4: Instructions: Input unit details for all residential units including income-restricted, PSH, and market rate. - Properties with occupied units: Use this tab as a rent roll, unit by unit, entering "1" in Column H. For each occupied unit, select "Y" in Column G and enter current tenant data into Columns M-T. See example in row 25 and "Tenant Retention Rules" tab for details on allowable rent/compliance for tenant income relative to unit restriction. - Vacant Properties/New Construction: Enter unit mix by bedroom type and affordability restriction. In column H, enter the number of units of the applicable type. See example in row 24. -"Tenant Paid Utilities" complete the table in Column Z marking "Y" for any utilities paid by tenants to determine the MSHDA utility allowances (located on the Data tab) to determine restricted affordable net rent (column Z). Option to use the "manual overrides" table for affordable rent per month and tenant-paid utilities per month by unit type. -If there are market rate aka Unrestricted units, select "Market" in both columns J, K and L. -If there are Project-Based Voucher (PBV) units, select "PBV - Income Restricted" in Column J and indicate the total rent amount, not the amount paid by the tenant, in column U. -Note: "Proposed rent," "Restricted rent," and "Assumed rent" are based on currently-available MSHDA/HUD data. Allowable rents during PILOT will depend on values at the time a lease is entered into. | V4: Tenant Paid Utilities
V5: Utility | X5: Tenant Paid?
V6: Heating | W6: Natural Gas | X6: N
W7: Electric (resistance) | X7: N
W8: Electric (heat pump) | X8: N
V9: Cooking | W9: Natural Gas | X9: N
W10: Electric | X10: N
V11: Hot Water | W11: Natural Gas | X11: N
W12: Electric | X12: N | AD12: Manual Overrides
V13: Other Electric | X13: N | AD13: Unit Type | AE13: $ Rent / Mo | AF13: $ Utility / Mo
V14: Water | X14: N | AD14: Studio | AE14: 0 | AF14: 0
V15: Sewer | X15: N | AD15: 1 Bedroom | AE15: 0 | AF15: 0
V16: Trash | X16: N | AD16: 2 Bedroom | AE16: 0 | AF16: 0
V17: Natural Gas Service Charge | X17: N | AD17: 3 Bedroom | AE17: 0 | AF17: 0
B18: Color Index: | C18: Blue = Input | D18: Green = Lookup | E18: Black = Calculation | F18: Red = Invalid Input | V18: Electric Service Charge | X18: N | AD18: 4+ Bedroom | AE18: 0 | AF18: 0
B21: Rent Roll | L21: ONLY FILL OUT IF OCCUPIED, OTHERWISE INPUT "NA" OR "0" AS SHOWN BELOW
P22: Current Rent (As Occupied) | S22: Proposed Initial Lease Rent (As Completed) | V22: Restricted Affordable Rent | AA22: Assumed Rent
B23: Unit Number | C23: Unit Description | D23: Unit Size | E23: Unit SF | F23: Occupied? (Y/N) | G23: # of Total Units | H23: Total SF | I23: Affordability Type At Completion | J23: Max % Unit Income Restriction At Completion | K23: Rent Restriction At Completion | L23: Current $ Annual Household Income | M23: Current # of Household Persons | N23: Current Household AMI | O23: Tenant Has Voucher? | P23: $ Rent / Mo | Q23: Rent per SF ($/Mo/SF) | R23: Annual Current Rent ($/yr) | S23: Rent ($/Mo) | T23: Rent PSF ($/Mo/PSF) | U23: Annual Future Rent ($/yr) | V23: Base Restricted Rent ($/Mo) | W23: Utility Allowance ($/Mo) | X23: Max Allowable Rent ($/Mo) | Y23: Max Allowable Rent PSF ($/Mo/PSF) | Z23: Gross Potential Rent ($/yr) | AA23: $ Rent / Mo | AB23: $ Rent PSF / Mo | AC23: $ Assumed Annual Rent | AD23: Proposed Rent Within Income Restriction? | AE23: Proposed Rent Compliant per Tenant Retention? | AF23: Proposed Rent Within 30% of Tenant Income? | AG23: Proposed Rent Increase < 5%? | AH23: Tenant Retention Category | AI23: Current Tenant Compliance Policy
B24: Sample - Vacant | C24: 1A | D24: 1 Bedroom | E24: 500 | F24: N | G24: 10 | H24: =G24*E24 -> 5000 | I24: Income-Restricted | J24: 0.8 | K24: MSHDA AMI | L24: 0 | M24: NA | N24: =IF(OR(L24=0,M24="NA"),"NA",IFERROR(INDEX('Data - Reference'!$B$37:$B$52,MATCH('Unit Summary - Rent Roll'!$L24,INDEX('Data - Reference'!$B$37:$J$52,,MATCH('Unit Summary - Rent Roll'!$M24,'Data - Reference'!$B$37:$J$37,0)),-1),1),">120% AMI")) -> NA | O24: N | P24: 0 | Q24: =IFERROR(P24/$E24,0) -> 0 | R24: =IF(F24="Y",P24*$G24*12,0) -> 0 | S24: 996 | T24: 1.8 | U24: 10800 | V24: 1080 | W24: -84 | X24: 996 | Y24: 1.99 | Z24: 11952 | AA24: =IF(AND($P24=$S24,$P24>0,$S24>0,$X24>0),MIN($P24,$S24,$X24), IF(AND($P24<$S24,$X24>0),MIN($S24,$X24), $S24)) -> 996 | AB24: =IFERROR(AA24/$E24,0) -> 1.992 | AC24: =AA24*$G24*12 -> 119520 | AD24: =IFERROR(IF(I24="Market","NA",IF(S24=0,"NA",IF(S24>X24,"N","Y"))),"NA") -> Y | AE24: =IFERROR(IF(AG24="Y","Y", IF(AND(AG24="N",AF24="Input Current Household Income"),"TBD", IF(AND(OR(AH24="1a",AH24="2a"),OR(AF24="Y",AG24="Y")),"Y", IF(AND(OR(AH24="1b",AH24="2b"),AD24="Y"),"Y", IF(AH24="4","Y", IF(AH24="NA","NA", "N")))))),"NA") -> NA | AF24: =IFERROR(IF(OR(F24="N",AC24=0),"NA", IF(L24=0,"Input Current Household Income", IF(F24="Y",IF(OR(I24="PBV - Income-Restricted",I24="PBRA - Income-Restricted",(S24-W24)<=L24/12*0.3),"Y","N"),"NA"))),"NA") -> NA | AG24: =IFERROR(IF(AC24=0,"NA", IF(F24="Y",IF(AA24/P24-1<=0.05,"Y","N"),"NA")),"NA") -> NA | AH24: =IFERROR(IF(F24="N","NA", (IF(AND(I24="Market",N24>80%),"4", IF(AND(N24<>"NA",OR(N24>120%,N24=">150% AMI")),"3b", IF(AND(N24<=J24,N24<=80%),"1a", IF(AND(N24<=J24,N24>80%,N24<=120%),"1b", IF(AND(N24>J24,N24<=80%),"2a", IF(AND(N24>80%,N24<=120%,N24-J24<=20%),"2b", IF(AND(N24>80%,N24<=120%,N24-J24>20%),"3a", "Other"))))))))),"NA") -> NA | AI24: =IFERROR(IF(AF24=0,"NA", IF(H24="Y",IF(OR(K24="PBV - Income-Restricted",AC24/R24-1<=0.05),"Y","N"),"NA")),"NA") -> NA
B25: Sample - Occupied | C25: 1A | D25: 1 Bedroom | E25: 500 | F25: Y | G25: 1 | H25: 500 | I25: Income-Restricted | J25: 0.8 | K25: MSHDA AMI | L25: 35000 | M25: 1 Person | N25: =IF(OR(L25=0,M25="NA"),"NA",IFERROR(INDEX('Data - Reference'!$B$37:$B$52,MATCH('Unit Summary - Rent Roll'!$L25,INDEX('Data - Reference'!$B$37:$J$52,,MATCH('Unit Summary - Rent Roll'!$M25,'Data - Reference'!$B$37:$J$37,0)),-1),1),">120% AMI")) -> 0.5 | O25: N | P25: 800 | Q25: 1.6 | R25: 9600 | S25: 1500 | T25: 1.8 | U25: 10800 | V25: 1080 | W25: -84 | X25: 996 | Y25: 1.99 | Z25: 11952 | AA25: =IF(AND($P25=$S25,$P25>0,$S25>0,$X25>0),MIN($P25,$S25,$X25), IF(AND($P25<$S25,$X25>0),MIN($S25,$X25), $S25)) -> 996 | AB25: =IFERROR(AA25/$E25,0) -> 1.992 | AC25: =AA25*$G25*12 -> 11952 | AD25: =IFERROR(IF(I25="Market","NA",IF(S25=0,"NA",IF(S25>X25,"N","Y"))),"NA") -> N | AE25: =IFERROR(IF(AG25="Y","Y", IF(AND(AG25="N",AF25="Input Current Household Income"),"TBD", IF(AND(OR(AH25="1a",AH25="2a"),OR(AF25="Y",AG25="Y")),"Y", IF(AND(OR(AH25="1b",AH25="2b"),AD25="Y"),"Y", IF(AH25="4","Y", IF(AH25="NA","NA", "N")))))),"NA") -> N | AF25: =IFERROR(IF(OR(F25="N",AC25=0),"NA", IF(L25=0,"Input Current Household Income", IF(F25="Y",IF(OR(I25="PBV - Income-Restricted",I25="PBRA - Income-Restricted",(S25-W25)<=L25/12*0.3),"Y","N"),"NA"))),"NA") -> N | AG25: =IFERROR(IF(AC25=0,"NA", IF(F25="Y",IF(AA25/P25-1<=0.05,"Y","N"),"NA")),"NA") -> N | AH25: =IFERROR(IF(F25="N","NA", (IF(AND(I25="Market",N25>80%),"4", IF(AND(N25<>"NA",OR(N25>120%,N25=">150% AMI")),"3b", IF(AND(N25<=J25,N25<=80%),"1a", IF(AND(N25<=J25,N25>80%,N25<=120%),"1b", IF(AND(N25>J25,N25<=80%),"2a", IF(AND(N25>80%,N25<=120%,N25-J25<=20%),"2b", IF(AND(N25>80%,N25<=120%,N25-J25>20%),"3a", "Other"))))))))),"NA") -> 1a | AI25: =IFERROR(IF(AF25=0,"NA", IF(H25="Y",IF(OR(K25="PBV - Income-Restricted",AC25/R25-1<=0.05),"Y","N"),"NA")),"NA") -> NA
B26: 1 | C26: <INSERT DESC> | D26: NA | E26: 0 | F26: N | G26: 0 | H26: =E26*G26 -> 0 | I26: NA | J26: NA | K26: NA | L26: 0 | M26: NA | N26: =IF(OR(L26=0,M26="NA"),"NA",IFERROR(INDEX('Data - Reference'!$B$37:$B$52,MATCH('Unit Summary - Rent Roll'!$L26,INDEX('Data - Reference'!$B$37:$J$52,,MATCH('Unit Summary - Rent Roll'!$M26,'Data - Reference'!$B$37:$J$37,0)),-1),1),">120% AMI")) -> NA | O26: N | P26: 0 | Q26: =IFERROR(P26/$E26,0) -> 0 | R26: =IF(F26="Y",P26*$G26*12,0) -> 0 | S26: 0 | T26: =IFERROR(S26/$E26,0) -> 0 | U26: =S26*$G26*12 -> 0 | V26: =IFERROR(IF(INDEX(AE$14:AE$18,MATCH($D26,$AD$14:$AD$18,0))<>0,INDEX(AE$14:AE$18,MATCH($D26,$AD$14:$AD$18,0)), IF($L26="Market",0,IF($K26="HUD FMR",INDEX('Data - Reference'!$B$31:$G$31,MATCH($D26,'Data - Reference'!$B$9:$G$9,0)),INDEX('Data - Reference'!$B$9:$G$31,MATCH($J26,'Data - Reference'!$B$9:$B$31,0),MATCH($D26,'Data - Reference'!$B$9:$G$9,0))))),0) -> 0 | W26: =IFERROR(IF(INDEX(AF$14:AF$18,MATCH($D26,$AD$14:$AD$18,0))<>0,INDEX(AF$14:AF$18,MATCH($D26,$AD$14:$AD$18,0)), IF($J26="None - Market",0,-INDEX('Data - Reference'!$B$32:$G$32,MATCH($D26,'Data - Reference'!$B$9:$G$9,0)))),0) -> 0 | X26: =ROUND(SUM(V26:W26),0) -> 0 | Y26: =IFERROR(X26/$E26,0) -> 0 | Z26: =X26*$G26*12 -> 0 | AA26: =IF(AND($P26=$S26,$P26>0,$S26>0,$X26>0),MIN($P26,$S26,$X26), IF(AND($P26<$S26,$X26>0),MIN($S26,$X26), $S26)) -> 0 | AB26: =IFERROR(AA26/$E26,0) -> 0 | AC26: =AA26*$G26*12 -> 0 | AD26: =IFERROR(IF(I26="Market","NA",IF(S26=0,"NA",IF(S26>X26,"N","Y"))),"NA") -> NA | AE26: =IFERROR(IF(AG26="Y","Y", IF(AND(AG26="N",AF26="Input Household Income"),"TBD", IF(AND(OR(AH26="1a",AH26="2a"),OR(AF26="Y",AG26="Y")),"Y", IF(AND(OR(AH26="1b",AH26="2b"),AD26="Y"),"Y", IF(AH26="4","Y", IF(AH26="NA","NA", "N")))))),"NA") -> NA | AF26: =IFERROR(IF(OR(F26="N",AC26=0),"NA", IF(L26=0,"Input Household Income", IF(F26="Y",IF(OR(I26="PBV - Income-Restricted",I26="PBRA - Income-Restricted",(S26-W26)<=L26/12*0.3),"Y","N"),"NA"))),"NA") -> NA | AG26: =IFERROR(IF(AC26=0,"NA", IF(F26="Y",IF(AA26/P26-1<=0.05,"Y","N"),"NA")),"NA") -> NA | AH26: =IFERROR(IF(F26="N","NA", (IF(AND(I26="Market",N26>80%),"4", IF(AND(N26<>"NA",OR(N26>120%,N26=">150% AMI")),"3b", IF(AND(N26<=J26,N26<=80%),"1a", IF(AND(N26<=J26,N26>80%,N26<=120%),"1b", IF(AND(N26>J26,N26<=80%),"2a", IF(AND(N26>80%,N26<=120%,N26-J26<=20%),"2b", IF(AND(N26>80%,N26<=120%,N26-J26>20%),"3a", "Other"))))))))),"NA") -> NA | AI26: =IFERROR(INDEX('Legacy Resident Reference'!R:R,MATCH('Unit Summary - Rent Roll'!AH26,'Legacy Resident Reference'!P:P,0)),"NA") -> NA
B27: 2 | C27: <INSERT DESC> | D27: NA | E27: 0 | F27: N | G27: 0 | H27: =E27*G27 -> 0 | I27: NA | J27: NA | K27: NA | L27: 0 | M27: NA | N27: =IF(OR(L27=0,M27="NA"),"NA",IFERROR(INDEX('Data - Reference'!$B$37:$B$52,MATCH('Unit Summary - Rent Roll'!$L27,INDEX('Data - Reference'!$B$37:$J$52,,MATCH('Unit Summary - Rent Roll'!$M27,'Data - Reference'!$B$37:$J$37,0)),-1),1),">120% AMI")) -> NA | O27: N | P27: 0 | Q27: =IFERROR(P27/$E27,0) -> 0 | R27: =IF(F27="Y",P27*$G27*12,0) -> 0 | S27: 0 | T27: =IFERROR(S27/$E27,0) -> 0 | U27: =S27*$G27*12 -> 0 | V27: =IFERROR(IF(INDEX(AE$14:AE$18,MATCH($D27,$AD$14:$AD$18,0))<>0,INDEX(AE$14:AE$18,MATCH($D27,$AD$14:$AD$18,0)), IF($L27="Market",0,IF($K27="HUD FMR",INDEX('Data - Reference'!$B$31:$G$31,MATCH($D27,'Data - Reference'!$B$9:$G$9,0)),INDEX('Data - Reference'!$B$9:$G$31,MATCH($J27,'Data - Reference'!$B$9:$B$31,0),MATCH($D27,'Data - Reference'!$B$9:$G$9,0))))),0) -> 0 | W27: =IFERROR(IF(INDEX(AF$14:AF$18,MATCH($D27,$AD$14:$AD$18,0))<>0,INDEX(AF$14:AF$18,MATCH($D27,$AD$14:$AD$18,0)), IF($J27="None - Market",0,-INDEX('Data - Reference'!$B$32:$G$32,MATCH($D27,'Data - Reference'!$B$9:$G$9,0)))),0) -> 0 | X27: =ROUND(SUM(V27:W27),0) -> 0 | Y27: =IFERROR(X27/$E27,0) -> 0 | Z27: =X27*$G27*12 -> 0 | AA27: =IF(AND($P27=$S27,$P27>0,$S27>0,$X27>0),MIN($P27,$S27,$X27), IF(AND($P27<$S27,$X27>0),MIN($S27,$X27), $S27)) -> 0 | AB27: =IFERROR(AA27/$E27,0) -> 0 | AC27: =AA27*$G27*12 -> 0 | AD27: =IFERROR(IF(I27="Market","NA",IF(S27=0,"NA",IF(S27>X27,"N","Y"))),"NA") -> NA | AE27: =IFERROR(IF(AG27="Y","Y", IF(AND(AG27="N",AF27="Input Household Income"),"TBD", IF(AND(OR(AH27="1a",AH27="2a"),OR(AF27="Y",AG27="Y")),"Y", IF(AND(OR(AH27="1b",AH27="2b"),AD27="Y"),"Y", IF(AH27="4","Y", IF(AH27="NA","NA", "N")))))),"NA") -> NA | AF27: =IFERROR(IF(OR(F27="N",AC27=0),"NA", IF(L27=0,"Input Household Income", IF(F27="Y",IF(OR(I27="PBV - Income-Restricted",I27="PBRA - Income-Restricted",(S27-W27)<=L27/12*0.3),"Y","N"),"NA"))),"NA") -> NA | AG27: =IFERROR(IF(AC27=0,"NA", IF(F27="Y",IF(AA27/P27-1<=0.05,"Y","N"),"NA")),"NA") -> NA | AH27: =IFERROR(IF(F27="N","NA", (IF(AND(I27="Market",N27>80%),"4", IF(AND(N27<>"NA",OR(N27>120%,N27=">150% AMI")),"3b", IF(AND(N27<=J27,N27<=80%),"1a", IF(AND(N27<=J27,N27>80%,N27<=120%),"1b", IF(AND(N27>J27,N27<=80%),"2a", IF(AND(N27>80%,N27<=120%,N27-J27<=20%),"2b", IF(AND(N27>80%,N27<=120%,N27-J27>20%),"3a", "Other"))))))))),"NA") -> NA | AI27: =IFERROR(INDEX('Legacy Resident Reference'!R:R,MATCH('Unit Summary - Rent Roll'!AH27,'Legacy Resident Reference'!P:P,0)),"NA") -> NA
